BEGIN:VCALENDAR
VERSION:2.0
PRODID:-//OYOU - ECPv5.9.1//NONSGML v1.0//EN
CALSCALE:GREGORIAN
METHOD:PUBLISH
X-WR-CALNAME:OYOU
X-ORIGINAL-URL:https://www.oyou.be
X-WR-CALDESC:Events for OYOU
BEGIN:VTIMEZONE
TZID:Europe/Brussels
BEGIN:DAYLIGHT
TZOFFSETFROM:+0100
TZOFFSETTO:+0200
TZNAME:CEST
DTSTART:20240331T010000
END:DAYLIGHT
BEGIN:STANDARD
TZOFFSETFROM:+0200
TZOFFSETTO:+0100
TZNAME:CET
DTSTART:20241027T010000
END:STANDARD
END:VTIMEZONE
BEGIN:VEVENT
DTSTART;TZID=Europe/Brussels:20240713T140000
DTEND;TZID=Europe/Brussels:20240713T150000
DTSTAMP:20260421T111049
CREATED:20240426T092649Z
LAST-MODIFIED:20240611T090058Z
UID:7399-1720879200-1720882800@www.oyou.be
SUMMARY:Table ronde : les imaginaires postindustriels
DESCRIPTION:Les imaginaires postindustriels\, l’héritage et les récits pour imaginer le futur \nDiscussion avec Martin Denoun et Ange Pottin  \n  \nÀ la suite de Thomas Flahaut\, Martin Denoun\, sociologue et Ange Pottin\, philosophe\, discuteront des imaginaires autour de ce monde dit  » postindustriel  » où l’énergie nucléaire semble promettre des devenirs radieux. Leurs réflexions nourries par le fruit de leurs recherches récentes sur le devenir du nucléaire en Europe occidentale nous permettront de déconstruire les discours\, de comprendre comment ces sociétés dématérialisées que l’on nous promet reposent en réalité sur des infrastructures complexes\, dont l’empreinte terrestre constitue un lourd héritage pour le futur.  \n \n  \nTarif : compris dans le prix d’entrée à ROBOZ    (voir infos pratiques)\nLieu : Cyborgcafé
URL:https://www.oyou.be/evenements/table-ronde-le-nucleaire-et-ses-imaginaires/
LOCATION:Rue du Marché – 4560 Clavier-Station\, Belgium
CATEGORIES:Roboz
ATTACH;FMTTYPE=image/jpeg:https://www.oyou.be/wp-content/uploads/2024/04/OIG1.qopHcHwdbt6pFRta1eqi.jpeg
END:VEVENT
END:VCALENDAR