BEGIN:VCALENDAR
VERSION:2.0
PRODID:-//OYOU - ECPv5.9.1//NONSGML v1.0//EN
CALSCALE:GREGORIAN
METHOD:PUBLISH
X-WR-CALNAME:OYOU
X-ORIGINAL-URL:https://www.oyou.be
X-WR-CALDESC:Events for OYOU
BEGIN:VTIMEZONE
TZID:Europe/Brussels
BEGIN:DAYLIGHT
TZOFFSETFROM:+0100
TZOFFSETTO:+0200
TZNAME:CEST
DTSTART:20260329T010000
END:DAYLIGHT
BEGIN:STANDARD
TZOFFSETFROM:+0200
TZOFFSETTO:+0100
TZNAME:CET
DTSTART:20261025T010000
END:STANDARD
END:VTIMEZONE
BEGIN:VEVENT
DTSTART;TZID=Europe/Brussels:20260626T000000
DTEND;TZID=Europe/Brussels:20260628T000000
DTSTAMP:20260420T093632
CREATED:20260318T141303Z
LAST-MODIFIED:20260318T141303Z
UID:11910-1782432000-1782604800@www.oyou.be
SUMMARY:Exposition d'un week-end :  le photo-club de Marchin
DESCRIPTION:Et non\, il n’y aura pas que du foot en cette fin juin\, mais aussi la\, presque aussi célèbre que nos Diables Rouges\, exposition du Photo-Club de Marchin. \nChaussez vos chaussures — sans vos crampons — et venez découvrir l’univers de nos photographes. \nUne quinzaine de photographes vous plongeront dans une collection d’images éclectiques\, reflétant la diversité du monde qui nous entoure. \nUn regard sur nos villes et leurs beautés différentes\, de la mode post-apocalyptique\, des portraits de gorilles\, du fun\, de l’humour\, du charme et du choc : tout est là pour vous surprendre. \nLe Photo-Club de Marchin a toujours su proposer une photographie atypique\, le tout dans une exposition offrant un regard original et ludique sur notre réalité. \nQue vous soyez amateur de photographie\, passionné d’art ou simplement curieux\, cette exposition promet de vous surprendre et de vous émerveiller. Venez partager avec nous cette célébration de l’image et de la créativité ! \n  \nVendredi 26 juin dès 20h\nSamedi 27 juin de 14h à 22h\nDimanche 28 juin de 11h à 19h\nÀ OYOU\, Place de Grand-Marchin 4 à 4570 Marchin\nEntrée libre \n  \nMerci aux joueurs de la Loterie Nationale ! Grâce à eux\, la Loterie Nationale soutient cette année encore notre événement.
URL:https://www.oyou.be/evenements/exposition-dun-week-end-le-photo-club-de-marchin/
LOCATION:OYOU\, Grand-Marchin 4\, Marchin\, 4570
ATTACH;FMTTYPE=image/jpeg:https://www.oyou.be/wp-content/uploads/2026/03/bandeau-photo-club.jpg
END:VEVENT
BEGIN:VEVENT
DTSTART;TZID=Europe/Brussels:20260920T000000
DTEND;TZID=Europe/Brussels:20261101T000000
DTSTAMP:20260420T093632
CREATED:20260325T091954Z
LAST-MODIFIED:20260325T091954Z
UID:11934-1789862400-1793491200@www.oyou.be
SUMMARY:Exposition de Juliette Vanwaterloo
DESCRIPTION:La broderie\, le tufting et les autres médiums textiles que Juliette Vanwaterloo mobilise dans son travail renvoient à une idée de douceur et de domesticité. Ne nous y trompons pas : la jeune artiste regarde notre monde et son déferlement d’images violentes. Face à ce flux qui nous angoisse autant qu’il nous anesthésie\, elle choisi d’isoler certaines images\, d’y consacrer du temps et du soin pour nous inviter à les revoir et à se laisser interpeller par elles. D’art délicat\, traditionnellement réservé aux femmes dans le cadre du foyer\, le textile devient un outil pour nous interpeller et pour nous mettre face aux dérives de notre époque. \n Les textiles en lutte de Juliette Vanwaterloo sont puissants… et inconfortables.  \n\n\n« […] et il y eut un grand tremblement de terre. Le soleil devint noir comme un sac de crin\, la lune entière devint comme du sang\, et les étoiles du ciel tombèrent sur la terre\, comme les figues vertes d’un figuier secoué par un vent violent. »(Apocalypse 6\, 12-13) \n  \n\nDu dimanche 20 septembre au dimanche 1 novembre 2026\nExposition librement accessible les mercredis\, samedis et dimanches de 14h à 18h.\nÀ OYOU\, place de Grand-Marchin\, 4 à 4570 Marchin \n  \nImage : Juliette Vanwaterloo\, Le deuxième ange messager
URL:https://www.oyou.be/evenements/juliette-vanwaterloo/
LOCATION:OYOU\, Grand-Marchin 4\, Marchin\, 4570
CATEGORIES:Arts plastiques
ATTACH;FMTTYPE=image/jpeg:https://www.oyou.be/wp-content/uploads/2026/03/bandeau-vanwate.jpg
END:VEVENT
END:VCALENDAR