BEGIN:VCALENDAR
VERSION:2.0
PRODID:-//OYOU - ECPv5.9.1//NONSGML v1.0//EN
CALSCALE:GREGORIAN
METHOD:PUBLISH
X-WR-CALNAME:OYOU
X-ORIGINAL-URL:https://www.oyou.be
X-WR-CALDESC:Events for OYOU
BEGIN:VTIMEZONE
TZID:Europe/Brussels
BEGIN:DAYLIGHT
TZOFFSETFROM:+0100
TZOFFSETTO:+0200
TZNAME:CEST
DTSTART:20240331T010000
END:DAYLIGHT
BEGIN:STANDARD
TZOFFSETFROM:+0200
TZOFFSETTO:+0100
TZNAME:CET
DTSTART:20241027T010000
END:STANDARD
BEGIN:DAYLIGHT
TZOFFSETFROM:+0100
TZOFFSETTO:+0200
TZNAME:CEST
DTSTART:20250330T010000
END:DAYLIGHT
BEGIN:STANDARD
TZOFFSETFROM:+0200
TZOFFSETTO:+0100
TZNAME:CET
DTSTART:20251026T010000
END:STANDARD
BEGIN:DAYLIGHT
TZOFFSETFROM:+0100
TZOFFSETTO:+0200
TZNAME:CEST
DTSTART:20260329T010000
END:DAYLIGHT
BEGIN:STANDARD
TZOFFSETFROM:+0200
TZOFFSETTO:+0100
TZNAME:CET
DTSTART:20261025T010000
END:STANDARD
END:VTIMEZONE
BEGIN:VEVENT
DTSTART;TZID=Europe/Brussels:20240101T080000
DTEND;TZID=Europe/Brussels:20261231T170000
DTSTAMP:20260420T062208
CREATED:20241118T080627Z
LAST-MODIFIED:20251208T090300Z
UID:9661-1704096000-1798736400@www.oyou.be
SUMMARY:Une œuvre pour la mémoire
DESCRIPTION:Le 12 octobre 2025\, l’œuvre de Sofhie Mavroudis\, « Personne ne disparaît sans faire de bruit »   réalisée dans le cadre du projet « Une œuvre pour la mémoire » a été inaugurée dans le parc de l’Athénée Prince Baudouin. \n  \n« Une œuvre pour la mémoire » est un projet mené par OYOU asbl avec le soutien de la commune de Marchin\, qui avait pour objectif d’implanter en 2025 une œuvre d’art mémorielle sur le site du Parc de l’Athénée royal Prince Baudouin à Marchin\, à l’emplacement de l’ancien château du Fourneau qui fut un ancien camp de détention de Juifs de 1939 à 1940.  \n  \nCe projet d’art public est le fruit d’un travail mené depuis mars 2023 avec les élèves de cinquième année de l’Athénée qui ont amorcé une réflexion sur les critères auxquels l’œuvre devait répondre alors qu’un groupe de commanditaires constitué de représentants des élèves\, du service pour l’égalité des chances\, du CPAS\, et du Plan de Cohésion Sociale de la commune de Marchin\, de membres de l’équipe OYOU\, d’élus communaux\, du conseil consultatif communal des aînés de Marchin\, du Cercle d’Histoire et de citoyens bénévoles a préparé l’appel à projet destiné aux artistes. \n  \nL’œuvre constitue une trace commémorative sortant de l’oubli l’histoire des Juifs détenus à Marchin dans le contexte de la seconde guerre mondiale\, et déportés à Auschwitz\, répondant à l’objectif de transmettre la mémoire des faits du passé pour la compréhension du présent. Elle intègrera le Chemin de Sculptures\, projet d’art public\, mis en place au début des années 2000 par le Centre culturel et la commune de Marchin\, qui comporte déjà une quinzaine d’œuvres exposées dans différents lieux fréquentés par les habitants et les promeneurs à Marchin. Pour reprendre les mots du président d’OYOU dans le carnet de présentation du parcours « Ce projet\, tout comme les expositions que nous proposons au centre culturel et au Pav’Art\, tout comme notre Biennale de la photographie en Condroz\, s’attache à certaines valeurs qu’on peut citer : être et exister\, en passant par la relation\, la révélation\, la recherche de fraternité\, de tendresse ». \n  \nUn projet OYOU en collaboration avec l’Athénée Royal Prince Baudouin\, la commune de Marchin et le Cercle Royal d’Histoire et de Folklore de Marchin-Vyle.\nAvec le soutien de la Fédération Wallonie-Bruxelles et de la Province de Liège. \n  \n\n\n\n\nTéléchargez le pré-projet \n\n\nTéléchargez le dossier pédagogique \n\n\n\n\n  \nPhoto : Simulation du projet proposé par Sofhie Mavroudis dans l’espace envisagé.
URL:https://www.oyou.be/evenements/une-oeuvre-pour-la-memoire/
LOCATION:ARPB\, Rue Fourneau 40\, Marchin\, 4570\, Belgium
CATEGORIES:Arts plastiques
ATTACH;FMTTYPE=image/jpeg:https://www.oyou.be/wp-content/uploads/2024/11/oeuvre_mem-scaled.jpg
END:VEVENT
BEGIN:VEVENT
DTSTART;TZID=Europe/Brussels:20260323T080000
DTEND;TZID=Europe/Brussels:20261231T170000
DTSTAMP:20260420T062208
CREATED:20260325T093625Z
LAST-MODIFIED:20260325T093625Z
UID:11928-1774252800-1798736400@www.oyou.be
SUMMARY:Chemin de sculptures
DESCRIPTION:Depuis le début des années 2000\, le Centre culturel et la Commune de Marchin s’unissent pour réaliser un projet d’art public\, notre « Chemin de sculptures » : une quinzaine d’œuvres trouvent déjà harmonieusement leur place dans l’environnement\, dans le paysage marchinois.  \nCe projet – tout comme les expositions que nous proposons au Centre culturel ou au « Pavillon des arts » de l’Athénée Royal Prince Baudouin\, tout comme notre Biennale de photographie en Condroz – s’attache à certaines valeurs qu’on peut citer : être ou exister\, en passant par la relation\, la révélation\, la recherche de fraternité\, de tendresse. \n  \nDécouvrir le parcours via ce lien. \n  \nImage : Guy Vandalise\, D’amour : d’ombre et de lumière\, gravure sur pierre sur la façade du centre culturel\, place de Grand-Marchin\, 2005
URL:https://www.oyou.be/evenements/chemin-de-sculptures/
LOCATION:OYOU\, Grand-Marchin 4\, Marchin\, 4570
CATEGORIES:Arts plastiques
ATTACH;FMTTYPE=image/jpeg:https://www.oyou.be/wp-content/uploads/2026/03/bandeau-chemin-de-scumptures.jpg
END:VEVENT
END:VCALENDAR