BEGIN:VCALENDAR
VERSION:2.0
PRODID:-//OYOU - ECPv5.9.1//NONSGML v1.0//EN
CALSCALE:GREGORIAN
METHOD:PUBLISH
X-WR-CALNAME:OYOU
X-ORIGINAL-URL:https://www.oyou.be
X-WR-CALDESC:Events for OYOU
BEGIN:VTIMEZONE
TZID:Europe/Brussels
BEGIN:DAYLIGHT
TZOFFSETFROM:+0100
TZOFFSETTO:+0200
TZNAME:CEST
DTSTART:20240331T010000
END:DAYLIGHT
BEGIN:STANDARD
TZOFFSETFROM:+0200
TZOFFSETTO:+0100
TZNAME:CET
DTSTART:20241027T010000
END:STANDARD
BEGIN:DAYLIGHT
TZOFFSETFROM:+0100
TZOFFSETTO:+0200
TZNAME:CEST
DTSTART:20250330T010000
END:DAYLIGHT
BEGIN:STANDARD
TZOFFSETFROM:+0200
TZOFFSETTO:+0100
TZNAME:CET
DTSTART:20251026T010000
END:STANDARD
BEGIN:DAYLIGHT
TZOFFSETFROM:+0100
TZOFFSETTO:+0200
TZNAME:CEST
DTSTART:20260329T010000
END:DAYLIGHT
BEGIN:STANDARD
TZOFFSETFROM:+0200
TZOFFSETTO:+0100
TZNAME:CET
DTSTART:20261025T010000
END:STANDARD
END:VTIMEZONE
BEGIN:VEVENT
DTSTART;TZID=Europe/Brussels:20240101T080000
DTEND;TZID=Europe/Brussels:20261231T170000
DTSTAMP:20260420T045637
CREATED:20241118T080627Z
LAST-MODIFIED:20251208T090300Z
UID:9661-1704096000-1798736400@www.oyou.be
SUMMARY:Une œuvre pour la mémoire
DESCRIPTION:Le 12 octobre 2025\, l’œuvre de Sofhie Mavroudis\, « Personne ne disparaît sans faire de bruit »   réalisée dans le cadre du projet « Une œuvre pour la mémoire » a été inaugurée dans le parc de l’Athénée Prince Baudouin. \n  \n« Une œuvre pour la mémoire » est un projet mené par OYOU asbl avec le soutien de la commune de Marchin\, qui avait pour objectif d’implanter en 2025 une œuvre d’art mémorielle sur le site du Parc de l’Athénée royal Prince Baudouin à Marchin\, à l’emplacement de l’ancien château du Fourneau qui fut un ancien camp de détention de Juifs de 1939 à 1940.  \n  \nCe projet d’art public est le fruit d’un travail mené depuis mars 2023 avec les élèves de cinquième année de l’Athénée qui ont amorcé une réflexion sur les critères auxquels l’œuvre devait répondre alors qu’un groupe de commanditaires constitué de représentants des élèves\, du service pour l’égalité des chances\, du CPAS\, et du Plan de Cohésion Sociale de la commune de Marchin\, de membres de l’équipe OYOU\, d’élus communaux\, du conseil consultatif communal des aînés de Marchin\, du Cercle d’Histoire et de citoyens bénévoles a préparé l’appel à projet destiné aux artistes. \n  \nL’œuvre constitue une trace commémorative sortant de l’oubli l’histoire des Juifs détenus à Marchin dans le contexte de la seconde guerre mondiale\, et déportés à Auschwitz\, répondant à l’objectif de transmettre la mémoire des faits du passé pour la compréhension du présent. Elle intègrera le Chemin de Sculptures\, projet d’art public\, mis en place au début des années 2000 par le Centre culturel et la commune de Marchin\, qui comporte déjà une quinzaine d’œuvres exposées dans différents lieux fréquentés par les habitants et les promeneurs à Marchin. Pour reprendre les mots du président d’OYOU dans le carnet de présentation du parcours « Ce projet\, tout comme les expositions que nous proposons au centre culturel et au Pav’Art\, tout comme notre Biennale de la photographie en Condroz\, s’attache à certaines valeurs qu’on peut citer : être et exister\, en passant par la relation\, la révélation\, la recherche de fraternité\, de tendresse ». \n  \nUn projet OYOU en collaboration avec l’Athénée Royal Prince Baudouin\, la commune de Marchin et le Cercle Royal d’Histoire et de Folklore de Marchin-Vyle.\nAvec le soutien de la Fédération Wallonie-Bruxelles et de la Province de Liège. \n  \n\n\n\n\nTéléchargez le pré-projet \n\n\nTéléchargez le dossier pédagogique \n\n\n\n\n  \nPhoto : Simulation du projet proposé par Sofhie Mavroudis dans l’espace envisagé.
URL:https://www.oyou.be/evenements/une-oeuvre-pour-la-memoire/
LOCATION:ARPB\, Rue Fourneau 40\, Marchin\, 4570\, Belgium
CATEGORIES:Arts plastiques
ATTACH;FMTTYPE=image/jpeg:https://www.oyou.be/wp-content/uploads/2024/11/oeuvre_mem-scaled.jpg
END:VEVENT
BEGIN:VEVENT
DTSTART;TZID=Europe/Brussels:20260502T200000
DTEND;TZID=Europe/Brussels:20260502T233000
DTSTAMP:20260420T045637
CREATED:20260304T113458Z
LAST-MODIFIED:20260414T074000Z
UID:11769-1777752000-1777764600@www.oyou.be
SUMMARY:Karaoké de luttes pour un monde meilleur : rêvons le travail !
DESCRIPTION:Karaoké de luttes pour un monde meilleur chez Ruelle \nVenez chanter chez Jean-Pol\, hurler votre joie\, hurler votre colère\, hurler vos peines\, hurler vos combats\, chanter pour mieux lutter ! \n  \nSamedi 2 mai dès 20h\nChez Ruelle\, Place de Belle-Maison\, 17 à 4570 Marchin\nGratuit\nInfos : anne@oyou.be \n  \nDans le cadre du cycle Travailler demain co-organisé avec PAC Huy-Waremme \n  \nImage : « Coll. IHOES\, Seraing » \n 
URL:https://www.oyou.be/evenements/karaoke/
LOCATION:Chez Ruelle\, Place de Belle-Maison\, 17\, Marchin\, 4570\, Belgium
CATEGORIES:Rencontre
ATTACH;FMTTYPE=image/jpeg:https://www.oyou.be/wp-content/uploads/2026/03/bandeau-karaoke.jpg
END:VEVENT
BEGIN:VEVENT
DTSTART;TZID=Europe/Brussels:20260503T140000
DTEND;TZID=Europe/Brussels:20260503T150000
DTSTAMP:20260420T045637
CREATED:20260304T093401Z
LAST-MODIFIED:20260312T144350Z
UID:11771-1777816800-1777820400@www.oyou.be
SUMMARY:Rencontre avec Caroline Lamarche autour de son rapport aux archives\, à la photographie et à l’histoire
DESCRIPTION:À l’occasion de la clôture de l’exposition « Le corps à l’ouvrage »\, rencontre avec Caroline Lamarche : entre archives et photographies : mener l’enquête entre le passé intime et la grande Histoire. \n  \nDimanche 3 mai 2026 à 14h\nÀ OYOU\, place de Grand-Marchin\, 4 à 4570 Marchin\nEntrée libre\nInfos : anne@oyou.be \n  \nDans le cadre du cycle Travailler demain co-organisé avec PAC Huy-Waremme \n  \nImage : Hubert Zeyen\, Déchargement de minerais\, 1867\,  photographie issue de l’album photographique de la compagnie Vieille Montagne de Saint-Paul de Sincay\, Coll. MMIL MNF000127\, page 34\, photographie n°1
URL:https://www.oyou.be/evenements/rencontre-avec-caroline-lamarche/
LOCATION:OYOU\, Grand-Marchin 4\, Marchin\, 4570
CATEGORIES:Rencontre
ATTACH;FMTTYPE=image/jpeg:https://www.oyou.be/wp-content/uploads/2026/03/bandeau-botesresse.jpg
END:VEVENT
BEGIN:VEVENT
DTSTART;TZID=Europe/Brussels:20260503T180000
DTEND;TZID=Europe/Brussels:20260503T190000
DTSTAMP:20260420T045637
CREATED:20260401T125407Z
LAST-MODIFIED:20260415T135349Z
UID:11964-1777831200-1777834800@www.oyou.be
SUMMARY:Rencontre avec la Cie Renard Noire dans le cadre de sa résidence
DESCRIPTION:Une fin de résidence… à découvrir ensemble. \nLa compagnie Renard Noire vous invite à une rencontre autour de sa nouvelle création «  Méduse ». \nAu programme : \n– Présentation du projet \n– Échanges avec le public \n– Immersion dans une histoire contée\, accompagnée à la harpe électrique \n  \nUn moment intimiste\, entre conte et musique\, pour entrer dans l’univers de la compagnie. \n  \nDimanche 3 mai à 18h\nÀ la Maison rurale\, place Geroges Hubin\n4577 Vierset-Barse \nAdultes & ados (dès 10 ans) \nEntrée libre \nInfos : anne@oyou.be  \n 
URL:https://www.oyou.be/evenements/sortie-de-residence/
LOCATION:Maison rurale\, Place Georges Hubin\, 1\, Vierset-Barse\, 4577\, Belgium
CATEGORIES:Rencontre
ATTACH;FMTTYPE=image/jpeg:https://www.oyou.be/wp-content/uploads/2026/04/bandeau-meduse.jpg
END:VEVENT
BEGIN:VEVENT
DTSTART;TZID=Europe/Brussels:20260516T130000
DTEND;TZID=Europe/Brussels:20260516T163000
DTSTAMP:20260420T045637
CREATED:20260304T112829Z
LAST-MODIFIED:20260409T134713Z
UID:11775-1778936400-1778949000@www.oyou.be
SUMMARY:Balade exploratoire : travailler d'hier à aujourd'hui\, explorer la vallée industrielle à vélo pour rêver demain
DESCRIPTION:Balade exploratoire en vélo de Huy à Marchin\, rendez-vous à 13h au Musée de Huy\, arrivée vers 16h30 au carrefour d’Ereffe à Marchin : contre-enquête sur l’histoire industrielle de la vallée du Hoyoux\, remonter la rivière pour refaire l’histoire et rêver le futur.  \n  \nSamedi 16 mai de 13h à 16h30\nDépart du Musée de Huy\, arrivée au pied de la côte d’Ereffe\nGratuit\nInfos : anne@oyou.be\nInscriptions : ci-dessous\n \n  \nDans le cadre du cycle Travailler demain co-organisé avec PAC Huy-Waremme \n 
URL:https://www.oyou.be/evenements/balade-exploratoire-2/
CATEGORIES:Rencontre
ATTACH;FMTTYPE=image/jpeg:https://www.oyou.be/wp-content/uploads/2026/03/bandeau-balade.jpg
END:VEVENT
BEGIN:VEVENT
DTSTART;TZID=Europe/Brussels:20260529T183000
DTEND;TZID=Europe/Brussels:20260529T230000
DTSTAMP:20260420T045637
CREATED:20260304T112457Z
LAST-MODIFIED:20260410T091811Z
UID:11782-1780079400-1780095600@www.oyou.be
SUMMARY:Refaire le monde : “Demain\, quel travail pour quelle société ?” avec Romain Gelin et Lionel Vanvelthem
DESCRIPTION:OYOU et PAC Huy-Waremme vous proposent de clôturer le cycle “Travailler demain” en beauté\, autour d’un bon repas\, une bonne discussion et puis un moment de partage autour des différents moments vécus. \n  \nAu programme :\n-18h30 : buffet printanier (15 euros) et panna cotta de saison (5 euros) sur réservation (anne@oyou.be)\n-20h : rencontre avec Romain Gelin\, chercheur au Groupe de recherche pour une stratégie économique alternative (GRESEA) et Lionel Vanvelthem\, historien à l’Institut d’histoire ouvrière et sociale (IHOES) \n-21h30 : restitution des ateliers d’écriture slam de Mel Moya et de Mauve Mc Weil et restitution de l’enquête de l’ADL “Travailler demain à Marchin ?” \n  \nVendredi 29 mai dès 18h30\nAu bistro\, place de Grand-Marchin à 4570 Marchin \nGratuit\nInfos : anne@oyou.be \n  \nDans le cadre du cycle Travailler demain co-organisé avec PAC Huy-Waremme \nImage : Marie Grenez\, xylographie issue de l’abécédaire « Au boulot » \n 
URL:https://www.oyou.be/evenements/refaire-le-monde/
LOCATION:Bistro\, Place de Grand-Marchin\, Marchin\, 4570
CATEGORIES:Rencontre
ATTACH;FMTTYPE=image/jpeg:https://www.oyou.be/wp-content/uploads/2026/03/bullok.jpg
END:VEVENT
BEGIN:VEVENT
DTSTART;TZID=Europe/Brussels:20260620T130000
DTEND;TZID=Europe/Brussels:20260620T233000
DTSTAMP:20260420T045637
CREATED:20260410T113844Z
LAST-MODIFIED:20260414T074042Z
UID:11988-1781960400-1781998200@www.oyou.be
SUMMARY:Jour de fête
DESCRIPTION:Journée des associations\, des ateliers\, de l’artisanat et de la musique \n  \nPour cette deuxième édition\, nous vous donnons rendez-vous sur la place de Belle-Maison le samedi 20 juin 2026 pour une journée festive de bout en bout\, menée de concert avec Les Condromadaires\, organisateurs de la Fête de la musique\, qui aura lieu ce même jour au même endroit. \n  \nAu programme : \n\nLes prestations des ateliers soutenus par OYOU. \n\nLes djembés\, cornemuses et chants polyphoniques nous plongeront dans leur ambiance respective alors que l’atelier gravure exposera ces dernières créations sur le thème de « L’aventure » et que l’atelier méditation heartfulness nous proposera de s’essayer à sa pratique. \n\nDes associations locales tiendront des stands et/ou proposeront comme l’année passée un parcours de jeux davantage accessible aux enfants. \nDes artisan.e.s locaux exposeront leurs créations et partageront leurs savoir-faire via des démonstrations. \nLa bibliothèque qui invitera les petits à une heure du conte et le magasin de seconde main seront exceptionnellement ouverts l’après-midi.\nUn stand d’information sur l’offre et la demande de bénévolat/volontariat vous accueillera et répondra à vos questions.\nEt enfin\, les concerts de la fête de la musique animeront la place !\n\n  \nL’entrée est gratuite ; il est possible de boire\, de manger (foodtrucks) et surtout de s’amuser ! Bienvenue ! \n  \nAvec notamment la participation de l’Agence Locale pour l’Emploi\, de l’Athénée de Marchin\, de la Bibliothèque OYOU\, du Cercle d’histoire\, des Condromadaires\, du Crie de Modave\, de l’asbl Les 4 Eléments\, du magasin de seconde main de la Maison des Solidarités\, du Maillon Humanitaire\, de Natagora\, de Présence Action Culturelle Huy-Waremme\, de Solid’Art’Note et du Syndicat d’initiative « Entre Eaux et Châteaux ». \n  \nUne organisation OYOU\, les Condromadaires\, ADL de Marchin et de la Coupole sociale. \n  \nSur et autour de la Place de Belle-Maison à 4570 Marchin\nSamedi 20 juin dès 13h\nEntrée libre \nProgramme et horaire à venir…
URL:https://www.oyou.be/evenements/jour-de-fete/
LOCATION:Place de Belle-Maison\, Place de Belle-Maison\, Marchin\, Belgium
CATEGORIES:Rencontre
ATTACH;FMTTYPE=image/jpeg:https://www.oyou.be/wp-content/uploads/2025/04/bandeau2bis.jpg
END:VEVENT
END:VCALENDAR