BEGIN:VCALENDAR
VERSION:2.0
PRODID:-//OYOU - ECPv5.9.1//NONSGML v1.0//EN
CALSCALE:GREGORIAN
METHOD:PUBLISH
X-WR-CALNAME:OYOU
X-ORIGINAL-URL:https://www.oyou.be
X-WR-CALDESC:Events for OYOU
BEGIN:VTIMEZONE
TZID:Europe/Brussels
BEGIN:DAYLIGHT
TZOFFSETFROM:+0100
TZOFFSETTO:+0200
TZNAME:CEST
DTSTART:20240331T010000
END:DAYLIGHT
BEGIN:STANDARD
TZOFFSETFROM:+0200
TZOFFSETTO:+0100
TZNAME:CET
DTSTART:20241027T010000
END:STANDARD
END:VTIMEZONE
BEGIN:VEVENT
DTSTART;TZID=Europe/Brussels:20241227T143000
DTEND;TZID=Europe/Brussels:20241227T170000
DTSTAMP:20260421T105058
CREATED:20241106T125831Z
LAST-MODIFIED:20241127T093825Z
UID:9535-1735309800-1735318800@www.oyou.be
SUMMARY:Noël au Théâtre : "Hands up !" par la Cie Lejo
DESCRIPTION:Spectacle familial\, sans paroles\, plein de poésie et de drôlerie. \n  \nLejo crée une forme unique et originale de théâtre. Ses marionnettes simples et reconnaissables au premier coup d’œil ne sont en effet composées que de mains nues et de deux yeux en bois. Et cela fonctionne à merveille. Doté d’un humour tantôt corrosif\, tantôt tendre et naïf mais toujours universel\, l’artiste nous présente une galerie étonnante de personnages : des danseurs à claquettes\, une vache avec un trouble alimentaire\, un chœur d’enfants\, un coq fou et bien d’autres. \nLes tout-petits sont happés par la loufoquerie de ces marionnettes si humaines et les grands rient simplement parce qu’elles sont irrésistibles. Avec ce spectacle\, Lejo réussit à convaincre toute la famille de son univers minimaliste. \n  \n\nSalle « La Grange »\, rue du Centre\, 21 – 4560 Les Avins\nVendredi 27 décembre à 14h30 et 16h\nDès 3 ans\n7 euros\nInfos et réservations : Comité culturel de Clavier – 0475 51 79 17 ou  annie.luymoeyen@gmail.com \n  \nUne organisation du Comité culturel de Clavier dans le cadre de Noël au Théâtre en région de Huy
URL:https://www.oyou.be/evenements/noel-au-theatre-hands-up-par-la-cie-lejo/
LOCATION:La Grange\, Rue du Centre 21\, Les Avins\, 4560\, Belgium
CATEGORIES:Jeunesse
ATTACH;FMTTYPE=image/jpeg:https://www.oyou.be/wp-content/uploads/2024/10/hands_up.jpg
END:VEVENT
END:VCALENDAR