BEGIN:VCALENDAR
VERSION:2.0
PRODID:-//OYOU - ECPv5.9.1//NONSGML v1.0//EN
CALSCALE:GREGORIAN
METHOD:PUBLISH
X-WR-CALNAME:OYOU
X-ORIGINAL-URL:https://www.oyou.be
X-WR-CALDESC:Events for OYOU
BEGIN:VTIMEZONE
TZID:Europe/Brussels
BEGIN:DAYLIGHT
TZOFFSETFROM:+0100
TZOFFSETTO:+0200
TZNAME:CEST
DTSTART:20220327T010000
END:DAYLIGHT
BEGIN:STANDARD
TZOFFSETFROM:+0200
TZOFFSETTO:+0100
TZNAME:CET
DTSTART:20221030T010000
END:STANDARD
END:VTIMEZONE
BEGIN:VEVENT
DTSTART;TZID=Europe/Brussels:20221028T140000
DTEND;TZID=Europe/Brussels:20221113T180000
DTSTAMP:20260425T051826
CREATED:20220915T134935Z
LAST-MODIFIED:20221108T074902Z
UID:3701-1666965600-1668362400@www.oyou.be
SUMMARY:Mélanie Patris : "Sortir de la forêt"
DESCRIPTION:Installation photo et arts plastiques de Mélanie Patris \n  \nÉglise Saint-Remacle\, Grand’Rue à 4560 Ocquier \nExposition ouverte du vendredi 28 octobre au dimanche 13 novembre\nLes vendredis\, samedis et dimanches de 14h00 à 18h00 – Entrée libre\nInfos : manu@oyou.be \n\nNée en 1977 à Tournai\, Mélanie Patris vit et travaille à Bruxelles. Après avoir terminé l’académie de photographie dans la capitale\, elle a continué à se former dans le domaine des pratiques argentiques\, expérimentales et anciennes. Elle a affiné son approche en participant à plusieurs projets\, résidences\, ateliers sur le long terme et suivis individuels\, en Belgique et à l’étranger.  \n  \nElle élargit sans cesse son approche photographique en travaillant en collaboration avec d’autres artistes\, tant \nphotographes qu’issus du monde de la scène. Son regard d’anthropologue et sa pratique d’art thérapeute en psychiatrie l’aident à enrichir sa préhension du monde et à épaissir ses recherches photographiques et visuelles. Elle voit dans son travail une approche ethnographique qui lui permet d’explorer et de questionner plus largement le sens des images.  \n\nSon premier livre\, « Eugénie »\, édité par les Éditions Arp2\, est sorti en novembre 2020. Son travail est exposé en galeries et en festivals\, en Belgique et à l’étranger\, montré notamment à Bruxelles\, Namur\, Huy\, Waterloo\, La Louvière\, ainsi qu’en France (Paris\, Montpellier\, Arles\, Nantes\, Rennes\, Ascain)\, en Espagne (Barcelone)\, en Roumanie (Cluj)\, en Grande-Bretagne (Wolverhampton) et aux États-Unis (New-York\, Denver Minneapolis). \n  \nPar ailleurs\, la dimension expérimentale des travaux de Mélanie Patris va\, ces derniers temps\, chercher des échos sans cesse plus profonds et nombreux dans la féminité\, la communion avec la nature\, la mobilisation d’histoires personnelles enfouies ou d’énergies invisibles\, indistinctes. C’est dans cette perspective qu’elle effectue une résidence en amont de la proposition « Sorcières »\, et qu’elle propose un atelier ouvert de deux jours\, en immersion\, et à mi-chemin à la fois de Marchin et d’Ocquier\, mais aussi de la quête personnelle\, du partage des émotions et de l’expérimentation de techniques photographiques inédites.  \nUne exposition OYOU pour « À la vie\, à la mort ! » \nPhoto : Mélanie Patris
URL:https://www.oyou.be/evenements/melanie-patris/
LOCATION:Eglise Saint-Remacle\, Grand'Rue\, Ocquier\, 4560\, Belgium
CATEGORIES:Arts plastiques
ATTACH;FMTTYPE=image/jpeg:https://www.oyou.be/wp-content/uploads/2022/09/CANEVAS_melanie.jpg
END:VEVENT
END:VCALENDAR