BEGIN:VCALENDAR
VERSION:2.0
PRODID:-//OYOU - ECPv5.9.1//NONSGML v1.0//EN
CALSCALE:GREGORIAN
METHOD:PUBLISH
X-WR-CALNAME:OYOU
X-ORIGINAL-URL:https://www.oyou.be
X-WR-CALDESC:Events for OYOU
BEGIN:VTIMEZONE
TZID:Europe/Brussels
BEGIN:DAYLIGHT
TZOFFSETFROM:+0100
TZOFFSETTO:+0200
TZNAME:CEST
DTSTART:20220327T010000
END:DAYLIGHT
BEGIN:STANDARD
TZOFFSETFROM:+0200
TZOFFSETTO:+0100
TZNAME:CET
DTSTART:20221030T010000
END:STANDARD
END:VTIMEZONE
BEGIN:VEVENT
DTSTART;TZID=Europe/Brussels:20221125T183000
DTEND;TZID=Europe/Brussels:20221125T233000
DTSTAMP:20260421T105709
CREATED:20220914T145738Z
LAST-MODIFIED:20220929T121834Z
UID:3680-1669401000-1669419000@www.oyou.be
SUMMARY:Refaire le monde : Jacques Rancière
DESCRIPTION: Rencontre et repas \n  \nAu Bistro \nPlace de Grand-Marchin \n4570 Marchin  \nrepas (10€\, sur réservation) à partir de 18:30 \nrencontre à 20:00 \nEntrée libre \n  \nÉté 2022\, encore une saison de tous les superlatifs pour parler de la sécheresse qui s’est abattue sur l’Europe\, transformant notre paysage condrusien en d’ardents vallons provençaux. Cela aurait quelque chose de charmant\, si une musique sombre ne se jouait en fond\, sur un air de manque d’eau pour les agriculteurs\, de crise de l’énergie pour les foyers ou encore de ciel envahi par les avions d’Alibaba. Alors quelle réponse apporter à cela ? Quelle vie mener dans nos campagnes ? Quelles actions encourager ? Et si la réponse était commune ? Et si nous agissions maintenant ? Pour réfléchir et surtout nourrir nos projets collectifs nous avons invité Jacques Rancière à venir « Refaire le monde » avec nous. \n  \nJacques Rancière est né à Alger en 1940 et a enseigné la philosophie à l’Université Paris VIII de 1968 à 2000. Dans son oeuvre prolifique\, de « La Nuit des prolétaires » en 1981\, « Le Maître ignorant » en 1987\, « Le Partage du sensible » en 2000 ou encore récemment dans « Les Trente inglorieuses »\, il développe une philosophie contemporaine critique.  \n  \nSa pensée\, parmi les plus importantes du dernier demi-siècle\, a inspiré les valeurs d’émancipation et d’égalité qui sont notamment au coeur de l’action des centres culturels. Il propose un discours d’espoir et de joie qui nous invite à ne pas attendre le grand soir\, la grande révolution\, mais à agir collectivement\, maintenant et ici.  \n  \nNous vous invitons à venir discuter à bâton rompu au Bistro autour de cette envie d’imaginer et de construire un futur politique et commun.
URL:https://www.oyou.be/evenements/jacques-ranciere/
LOCATION:Bistro\, Place de Grand-Marchin\, Marchin\, 4570
ATTACH;FMTTYPE=image/jpeg:https://www.oyou.be/wp-content/uploads/2022/09/Ranciere_web.jpg
END:VEVENT
END:VCALENDAR