BEGIN:VCALENDAR
VERSION:2.0
PRODID:-//OYOU - ECPv5.9.1//NONSGML v1.0//EN
CALSCALE:GREGORIAN
METHOD:PUBLISH
X-WR-CALNAME:OYOU
X-ORIGINAL-URL:https://www.oyou.be
X-WR-CALDESC:Events for OYOU
BEGIN:VTIMEZONE
TZID:Europe/Brussels
BEGIN:DAYLIGHT
TZOFFSETFROM:+0100
TZOFFSETTO:+0200
TZNAME:CEST
DTSTART:20250330T010000
END:DAYLIGHT
BEGIN:STANDARD
TZOFFSETFROM:+0200
TZOFFSETTO:+0100
TZNAME:CET
DTSTART:20251026T010000
END:STANDARD
END:VTIMEZONE
BEGIN:VEVENT
DTSTART;TZID=Europe/Brussels:20251121T200000
DTEND;TZID=Europe/Brussels:20251121T223000
DTSTAMP:20260424T210651
CREATED:20251008T140754Z
LAST-MODIFIED:20251120T125751Z
UID:10797-1763755200-1763764200@www.oyou.be
SUMMARY:Complet ! Cinéma en campagne : “No other land” de Basel Adra\, Hamdan Ballal\, Yuval Abraham\, Rachel Szor\, 2024.
DESCRIPTION:! Attention ! La séance est complète. Il est toutefois possible de vous inscrire sur une liste d’attente auprès d’Anne : anne@oyou.be  \n  \nDepuis plus de 5 ans\, Basel Adra\, un activiste palestinien en Cisjordanie\, filme l’expulsion de sa communauté par l’occupation israélienne qui détruit progressivement les villages et chasse ses habitants. Il rencontre Yuval\, un journaliste israélien\, qui le soutient dans ses démarches. Une amitié inattendue voit le jour. \n  \nCe film réalisé par un collectif palestino-israélien de quatre jeunes militants est comme un acte de résistance créative sur la voie d’une plus grande justice. \n  \nÀ la suite du film\, interventions de membres de l’Association belgo-palestinienne. \n  \nVendredi 21 novembre à 20h\nÀ la salle Les Mélèzes\, résidence de Senones à 4570 Marchin\nPrix libre (en faveur d’associations venant en aide à Gaza\, via PAC Huy-Waremme).\nInfos : anne@oyou.be \n! Attention ! La séance est complète. Il est toutefois possible de vous inscrire sur une liste d’attente auprès d’Anne : anne@oyou.be  \n  \nDans le cadre du « Cycle Palestine » organisé en partenariat entre PAC Huy-waremme\, OYOU\, Latitude 50\, La Maison des solidarités\, le CPAS de Marchin\, Devenirs et Dora-Dores. \n 
URL:https://www.oyou.be/evenements/cinema-en-campagne-no-other-land-de-basel-adra-hamdan-ballal-yuval-abraham-rachel-szor-2024/
LOCATION:Salle Les Mélèzes\, Résidence de Senones\, Marchin\, 4570\, Belgium
CATEGORIES:ciné
ATTACH;FMTTYPE=image/png:https://www.oyou.be/wp-content/uploads/2025/10/5.png
END:VEVENT
END:VCALENDAR