BEGIN:VCALENDAR
VERSION:2.0
PRODID:-//OYOU - ECPv5.9.1//NONSGML v1.0//EN
CALSCALE:GREGORIAN
METHOD:PUBLISH
X-WR-CALNAME:OYOU
X-ORIGINAL-URL:https://www.oyou.be
X-WR-CALDESC:Events for OYOU
BEGIN:VTIMEZONE
TZID:Europe/Brussels
BEGIN:DAYLIGHT
TZOFFSETFROM:+0100
TZOFFSETTO:+0200
TZNAME:CEST
DTSTART:20220327T010000
END:DAYLIGHT
BEGIN:STANDARD
TZOFFSETFROM:+0200
TZOFFSETTO:+0100
TZNAME:CET
DTSTART:20221030T010000
END:STANDARD
END:VTIMEZONE
BEGIN:VEVENT
DTSTART;TZID=Europe/Brussels:20221111T200000
DTEND;TZID=Europe/Brussels:20221111T213000
DTSTAMP:20260425T051515
CREATED:20220916T130505Z
LAST-MODIFIED:20221025T093949Z
UID:3728-1668196800-1668202200@www.oyou.be
SUMMARY:Spectacle : Baba Yaga
DESCRIPTION:Un spectacle de la Compagnie Renard Noire\, inspiré du conte traditionnel russe « Vassilissa-la-très-belle ».\n \n  \nVendredi 11 novembre à 20h\nA L’Atelier(s)\, rue du centre 36 à 4560 Les Avins\nA partir de 10 ans\nDurée : 70 minutes\nEntrée libre\nInfos : anne@oyou.be\n\n \nUne jeune fille dont on a éteint le feu intérieur pénètre les Terres Sacrées de la Grande Sorcière. Seule compagne d’errance : sa poupée fétiche. Commence alors l’histoire d’une rencontre intense et surprenante\, celle d’une adolescente perdue avec la Gardienne insaisissable de la Nuit et des Mystères. \nQuand l’innocence bafouée renoue avec l’intuition et la puissance. \nUne histoire de transmission\, de réparation\, de réhabilitation. Une épopée terrifiante et libératrice\, délirante et profonde qui mènera l’héroïne vers sa destinée singulière. \n  \nAnne Borlée\, conception\, récit\, chant et harpe\nGilles Kremer\, musique et arrangement sonore\nChristophe Hella\, régie lumière\nAnaïd Ferté\, conception costume et installation visuelle\nCatherine Pierloz\, aide à la dramaturgie et à l’écriture\n\n \nDans le cadre de la 3e édition du projet « A la vie\, à la mort ! »
URL:https://www.oyou.be/evenements/baba-yaga/
LOCATION:L’Atelier(s)\, Rue du Centre 36\, Les Avins\, 4560\, Belgium
CATEGORIES:Spectacle
ATTACH;FMTTYPE=image/jpeg:https://www.oyou.be/wp-content/uploads/2022/09/baba_web.jpg
END:VEVENT
END:VCALENDAR